BEGIN:VCALENDAR
VERSION:2.0
PRODID:-//eventon.com NONSGML v1.0//EN
CALSCALE:GREGORIAN
METHOD:PUBLISH
BEGIN:VEVENT
UID:69e5179fb5832
DTSTAMP:20260419T175751Z
DTSTART:20200104T180000Z
DTEND:20200104T225000Z
LOCATION:Teatro Montemar C/ Cózar
SUMMARY:VI Festival de Teatro Familiar "Ciudad de Baeza"
DESCRIPTION:Obra: Disnemania el Musical\nhttps://www.baeza.net/agenda/vi-fe
 stival-de-teatro-familiar-ciudad-de-baeza-6/
URL:https://www.baeza.net/agenda/vi-festival-de-teatro-familiar-ciudad-de-baeza-6/
END:VEVENT
END:VCALENDAR