BEGIN:VCALENDAR
VERSION:2.0
PRODID:-//eventon.com NONSGML v1.0//EN
CALSCALE:GREGORIAN
METHOD:PUBLISH
BEGIN:VEVENT
UID:69e63cb5bd34d
DTSTAMP:20260420T144821Z
DTSTART:20240713T170000Z
DTEND:20240714T030000Z
LOCATION:
SUMMARY:Fiesta de La Pompa XXL
DESCRIPTION:Fiesta de La Pompa XXL. Plaza de Toros de Baeza. Desde las 19:0
 0 horas a 5:00 de la mañana.\nhttps://www.baeza.net/agenda/fiesta-de-la-po
 mpa-xxl/
URL:https://www.baeza.net/agenda/fiesta-de-la-pompa-xxl/
END:VEVENT
END:VCALENDAR